BEGIN:VCALENDAR
VERSION:2.0
PRODID:-//eventon.com NONSGML v1.0//EN
BEGIN:VEVENT
UID:69eb591901fc4
DTSTAMP:20260424T135049
DTSTART:20210512T080000Z
DTEND:20210512T110000Z
LOCATION:
SUMMARY:Webinar Privatschulfinanzierung
DESCRIPTION: Webinar Privatschulfinanzierung
END:VEVENT
END:VCALENDAR