BEGIN:VCALENDAR
VERSION:2.0
PRODID:-//eventon.com NONSGML v1.0//EN
BEGIN:VEVENT
UID:69eb4239879ff
DTSTAMP:20260424T121313
DTSTART:20211006T080000Z
DTEND:20211006T140000Z
LOCATION:
SUMMARY:Schulverwaltung für Einsteiger
DESCRIPTION: Schulverwaltung für Einsteiger
END:VEVENT
END:VCALENDAR